BEGIN:VCALENDAR
VERSION:2.0
PRODID:-//The Walter Hive - ECPv6.15.20//NONSGML v1.0//EN
CALSCALE:GREGORIAN
METHOD:PUBLISH
X-ORIGINAL-URL:https://www.thewalterhive.org
X-WR-CALDESC:Events for The Walter Hive
REFRESH-INTERVAL;VALUE=DURATION:PT1H
X-Robots-Tag:noindex
X-PUBLISHED-TTL:PT1H
BEGIN:VTIMEZONE
TZID:America/Phoenix
BEGIN:STANDARD
TZOFFSETFROM:-0700
TZOFFSETTO:-0700
TZNAME:MST
DTSTART:20230101T000000
END:STANDARD
END:VTIMEZONE
BEGIN:VEVENT
DTSTART;TZID=America/Phoenix:20241116T180000
DTEND;TZID=America/Phoenix:20241116T220000
DTSTAMP:20260421T040343
CREATED:20241101T075638Z
LAST-MODIFIED:20241101T075638Z
UID:10001461-1731780000-1731794400@www.thewalterhive.org
SUMMARY:Canal Convergence Workshop and Live Interactive Art
DESCRIPTION:Join us at Canal Convergence for an exciting workshop and live interactive art experience! Engage in hands-on creativity with The Walter Hive’s art activities\, and be part of a captivating live art installation along the canal. Perfect for all ages\, this event celebrates community\, creativity\, and the beauty of public art.
URL:https://www.thewalterhive.org/events/canal-convergence-workshop-and-live-interactive-art-2/
LOCATION:7025 E. Via Soleri Drive\, Scottsdale\, AZ 85251
ATTACH;FMTTYPE=image/jpeg:https://www.thewalterhive.org/wp-content/uploads/2024/11/canal-fire.jpg
END:VEVENT
BEGIN:VEVENT
DTSTART;TZID=America/Phoenix:20241115T180000
DTEND;TZID=America/Phoenix:20241115T220000
DTSTAMP:20260421T040343
CREATED:20241101T074343Z
LAST-MODIFIED:20241101T075115Z
UID:10001453-1731693600-1731708000@www.thewalterhive.org
SUMMARY:Canal Convergence Workshop and Live Interactive Art
DESCRIPTION:Join us at Canal Convergence for an exciting workshop and live interactive art experience! Engage in hands-on creativity with The Walter Hive’s art activities\, and be part of a captivating live art installation along the canal. Perfect for all ages\, this event celebrates community\, creativity\, and the beauty of public art.
URL:https://www.thewalterhive.org/events/canal-convergence-workshop-and-live-interactive-art/
LOCATION:7025 E. Via Soleri Drive\, Scottsdale\, AZ 85251
ATTACH;FMTTYPE=image/jpeg:https://www.thewalterhive.org/wp-content/uploads/2024/11/canal-fire.jpg
END:VEVENT
BEGIN:VEVENT
DTSTART;TZID=America/Phoenix:20241109T180000
DTEND;TZID=America/Phoenix:20241109T220000
DTSTAMP:20260421T040343
CREATED:20241101T075649Z
LAST-MODIFIED:20241101T075649Z
UID:10001462-1731175200-1731189600@www.thewalterhive.org
SUMMARY:Canal Convergence Workshop and Live Interactive Art
DESCRIPTION:Join us at Canal Convergence for an exciting workshop and live interactive art experience! Engage in hands-on creativity with The Walter Hive’s art activities\, and be part of a captivating live art installation along the canal. Perfect for all ages\, this event celebrates community\, creativity\, and the beauty of public art.
URL:https://www.thewalterhive.org/events/canal-convergence-workshop-and-live-interactive-art-3/
LOCATION:7025 E. Via Soleri Drive\, Scottsdale\, AZ 85251
ATTACH;FMTTYPE=image/jpeg:https://www.thewalterhive.org/wp-content/uploads/2024/11/canal-fire.jpg
END:VEVENT
BEGIN:VEVENT
DTSTART;TZID=America/Phoenix:20241108T180000
DTEND;TZID=America/Phoenix:20241108T220000
DTSTAMP:20260421T040343
CREATED:20241101T075701Z
LAST-MODIFIED:20241101T075701Z
UID:10001463-1731088800-1731103200@www.thewalterhive.org
SUMMARY:Canal Convergence Workshop and Live Interactive Art
DESCRIPTION:Join us at Canal Convergence for an exciting workshop and live interactive art experience! Engage in hands-on creativity with The Walter Hive’s art activities\, and be part of a captivating live art installation along the canal. Perfect for all ages\, this event celebrates community\, creativity\, and the beauty of public art.
URL:https://www.thewalterhive.org/events/canal-convergence-workshop-and-live-interactive-art-4/
LOCATION:7025 E. Via Soleri Drive\, Scottsdale\, AZ 85251
ATTACH;FMTTYPE=image/jpeg:https://www.thewalterhive.org/wp-content/uploads/2024/11/canal-fire.jpg
END:VEVENT
END:VCALENDAR