BEGIN:VCALENDAR
VERSION:2.0
PRODID:-//The Walter Hive - ECPv6.15.20//NONSGML v1.0//EN
CALSCALE:GREGORIAN
METHOD:PUBLISH
X-ORIGINAL-URL:https://www.thewalterhive.org
X-WR-CALDESC:Events for The Walter Hive
REFRESH-INTERVAL;VALUE=DURATION:PT1H
X-Robots-Tag:noindex
X-PUBLISHED-TTL:PT1H
BEGIN:VTIMEZONE
TZID:America/Phoenix
BEGIN:STANDARD
TZOFFSETFROM:-0700
TZOFFSETTO:-0700
TZNAME:MST
DTSTART:20240101T000000
END:STANDARD
END:VTIMEZONE
BEGIN:VEVENT
DTSTART;TZID=America/Phoenix:20250722T170000
DTEND;TZID=America/Phoenix:20250722T190000
DTSTAMP:20260420T012756
CREATED:20250630T193514Z
LAST-MODIFIED:20250630T193617Z
UID:10002002-1753203600-1753210800@www.thewalterhive.org
SUMMARY:Torn Together: Torn Paper Collage Workshop at Basha Library
DESCRIPTION:Summer Art Series: Torn Together with the Walter Hive @ The Basha Library\nJoin The Walter Hive for a Summer Reading Challenge hands-on art workshop where creativity is ripped wide open! \nIn this playful and expressive session\, we’ll explore the art of torn paper collage—using bold\, bright\, and beautiful scraps of colored paper to craft entirely new images. Whether you’re layering textures\, blending hues\, or letting shapes form spontaneously\, you’ll discover how something as simple as torn paper can come together to tell a whole new story. \nNo experience needed—just bring your imagination and a love for color. Let’s tear\, layer\, and create a vibrant masterpiece together!\n\nAddress: \n5990 S Val Vista Drive\nChandler AZ 85249\n\nREGISTRATION REQUIRED:\nRegistration opens: \nTuesday Jul 8 at 12:00am  Link below to sign up \n\nhttps://chandler.bibliocommons.com/events/68095cc27374ee901ddc53b0
URL:https://www.thewalterhive.org/events/torn-together-torn-paper-collage-workshop-at-basha-library/
LOCATION:5990 S Val Vista Drive Chandler AZ 85249\, 5990 S Val Vista Drive\, Chandler\, AZ\, 85249\, United States
ATTACH;FMTTYPE=image/jpeg:https://www.thewalterhive.org/wp-content/uploads/2025/06/250109f_torn_paper_collage_step2.jpg
END:VEVENT
END:VCALENDAR