BEGIN:VCALENDAR
VERSION:2.0
PRODID:-//The Walter Hive - ECPv6.15.20//NONSGML v1.0//EN
CALSCALE:GREGORIAN
METHOD:PUBLISH
X-ORIGINAL-URL:https://www.thewalterhive.org
X-WR-CALDESC:Events for The Walter Hive
REFRESH-INTERVAL;VALUE=DURATION:PT1H
X-Robots-Tag:noindex
X-PUBLISHED-TTL:PT1H
BEGIN:VTIMEZONE
TZID:America/Phoenix
BEGIN:STANDARD
TZOFFSETFROM:-0700
TZOFFSETTO:-0700
TZNAME:MST
DTSTART:20250101T000000
END:STANDARD
END:VTIMEZONE
BEGIN:VEVENT
DTSTART;TZID=America/Phoenix:20260305T180000
DTEND;TZID=America/Phoenix:20260305T193000
DTSTAMP:20260420T134100
CREATED:20260219T025002Z
LAST-MODIFIED:20260219T031006Z
UID:10003300-1772733600-1772739000@www.thewalterhive.org
SUMMARY:Volunteer Orientation
DESCRIPTION:Find your community and get to know what it is like to volunteer with The Walter Hive! Here\, we care more about the community you find and creating a space you can create openly in. Volunteer at events near Scottsdale or Phoenix and explore your fine art\, fabrication art\, or photography skills. \nSign up\, stop in\, and see what we are all about!
URL:https://www.thewalterhive.org/events/volunteer-orientation-3/
LOCATION:The Walter Hive\, 6435 E Thomas Rd\, Scottsdale\, AZ\, 85251\, United States
CATEGORIES:Volunteer Event
ORGANIZER;CN="The Walter Hive":MAILTO:info@thewalterhive.org
END:VEVENT
END:VCALENDAR