BEGIN:VCALENDAR
VERSION:2.0
PRODID:-//The Walter Hive - ECPv6.15.20//NONSGML v1.0//EN
CALSCALE:GREGORIAN
METHOD:PUBLISH
X-ORIGINAL-URL:https://www.thewalterhive.org
X-WR-CALDESC:Events for The Walter Hive
REFRESH-INTERVAL;VALUE=DURATION:PT1H
X-Robots-Tag:noindex
X-PUBLISHED-TTL:PT1H
BEGIN:VTIMEZONE
TZID:America/Phoenix
BEGIN:STANDARD
TZOFFSETFROM:-0700
TZOFFSETTO:-0700
TZNAME:MST
DTSTART:20220101T000000
END:STANDARD
END:VTIMEZONE
BEGIN:VEVENT
DTSTART;TZID=America/Phoenix:20230330T180000
DTEND;TZID=America/Phoenix:20230330T200000
DTSTAMP:20260420T073134
CREATED:20230301T024310Z
LAST-MODIFIED:20230301T024310Z
UID:10000707-1680199200-1680206400@www.thewalterhive.org
SUMMARY:Glowing S.T.E.A.M. Watercolor Cards with Girl Scouts *private event*
DESCRIPTION:The Girl Scouts Pine Council community joins us for a monthly fine arts/fabrication class. This month is watercolor cards with a glowing led component that can make your artwork illuminate!
URL:https://www.thewalterhive.org/events/glowing-s-t-e-a-m-watercolor-cards-with-girl-scouts-private-event/
LOCATION:The Walter Hive\, 6435 E Thomas Rd\, Scottsdale\, AZ\, 85251\, United States
ATTACH;FMTTYPE=image/jpeg:https://www.thewalterhive.org/wp-content/uploads/2023/02/126024501_2836426653346568_6812624383859896801_n.jpg
END:VEVENT
END:VCALENDAR