BEGIN:VCALENDAR
VERSION:2.0
PRODID:-//The Walter Hive - ECPv6.15.20//NONSGML v1.0//EN
CALSCALE:GREGORIAN
METHOD:PUBLISH
X-ORIGINAL-URL:https://www.thewalterhive.org
X-WR-CALDESC:Events for The Walter Hive
REFRESH-INTERVAL;VALUE=DURATION:PT1H
X-Robots-Tag:noindex
X-PUBLISHED-TTL:PT1H
BEGIN:VTIMEZONE
TZID:America/Phoenix
BEGIN:STANDARD
TZOFFSETFROM:-0700
TZOFFSETTO:-0700
TZNAME:MST
DTSTART:20220101T000000
END:STANDARD
END:VTIMEZONE
BEGIN:VEVENT
DTSTART;TZID=America/Phoenix:20230327T180000
DTEND;TZID=America/Phoenix:20230327T190000
DTSTAMP:20260420T053332
CREATED:20230327T051944Z
LAST-MODIFIED:20230327T052327Z
UID:10000508-1679940000-1679943600@www.thewalterhive.org
SUMMARY:Layered Paper Landscapes with Charlotte *free and open to public*
DESCRIPTION:Join the Walter hive and design a layered landscape using only paper and your own creativity! In this workshop we will explore the idea of creating depth by using separate layers of cut paper. You can make your project as simple or complex as you like!\n \nMaterials:\n3+ types of paper\nScissors or x-acto knife\nPencil\nGlue or tape\nThis is our virtual community art workshop series which is held every Monday from 6-7pm. It’s free and open to people of all ages and artistic experience levels.
URL:https://www.thewalterhive.org/events/virtual-art-class-free-and-open-to-public-2-5/
LOCATION:Walter Dome\, 6435 E Thomas Rd.\, Scottsdale\, AZ\, 85251\, United States
ATTACH;FMTTYPE=image/jpeg:https://www.thewalterhive.org/wp-content/uploads/2022/11/istockphoto-961633010-612x612-1.jpg
END:VEVENT
END:VCALENDAR