BEGIN:VCALENDAR
VERSION:2.0
PRODID:-//The Walter Hive - ECPv6.15.20//NONSGML v1.0//EN
CALSCALE:GREGORIAN
METHOD:PUBLISH
X-WR-CALNAME:The Walter Hive
X-ORIGINAL-URL:https://www.thewalterhive.org
X-WR-CALDESC:Events for The Walter Hive
REFRESH-INTERVAL;VALUE=DURATION:PT1H
X-Robots-Tag:noindex
X-PUBLISHED-TTL:PT1H
BEGIN:VTIMEZONE
TZID:America/Phoenix
BEGIN:STANDARD
TZOFFSETFROM:-0700
TZOFFSETTO:-0700
TZNAME:MST
DTSTART:20220101T000000
END:STANDARD
END:VTIMEZONE
BEGIN:VEVENT
DTSTART;TZID=America/Phoenix:20230207T180000
DTEND;TZID=America/Phoenix:20230207T200000
DTSTAMP:20260420T144021
CREATED:20230110T195747Z
LAST-MODIFIED:20230110T195828Z
UID:10000581-1675792800-1675800000@www.thewalterhive.org
SUMMARY:Teens of S.T.E.A.M. Club: Intro To Juggling with Phil
DESCRIPTION:Teens ages 13-18! If you’re looking to improve your hand-eye coordination\, dexterity and rhythm\, then a juggling workshop is perfect for you. Juggling is a fun and easy way to work all of these skills into one activity. In this workshop\, you’ll learn the basics of juggling and start to develop the muscle memory needed to keep juggling patterns flowing. We’ll also work on coordination and movement\, so you can juggle with confidence and style. You’ll get plenty of practice time\, so you can really improve your skills. The workshop will be tailored to the individual skill level of the participants\, so everyone can learn at their own pace. \n\nThe Walter Hive Teens of STEAM Club is an evening where we open our doors for any and all teenagers to come and enjoy a safe\, empowering learning environment. Pizza will also be provided for anybody attending. \nClick here to sign up
URL:https://www.thewalterhive.org/events/teens-of-s-t-e-a-m-club-intro-to-juggling-with-phil/
LOCATION:Walter Dome\, 6435 E Thomas Rd.\, Scottsdale\, AZ\, 85251\, United States
CATEGORIES:community event
ATTACH;FMTTYPE=image/jpeg:https://www.thewalterhive.org/wp-content/uploads/2023/01/image0.jpeg
END:VEVENT
END:VCALENDAR