BEGIN:VCALENDAR
VERSION:2.0
PRODID:-//The Walter Hive - ECPv6.15.20//NONSGML v1.0//EN
CALSCALE:GREGORIAN
METHOD:PUBLISH
X-ORIGINAL-URL:https://www.thewalterhive.org
X-WR-CALDESC:Events for The Walter Hive
REFRESH-INTERVAL;VALUE=DURATION:PT1H
X-Robots-Tag:noindex
X-PUBLISHED-TTL:PT1H
BEGIN:VTIMEZONE
TZID:America/Phoenix
BEGIN:STANDARD
TZOFFSETFROM:-0700
TZOFFSETTO:-0700
TZNAME:MST
DTSTART:20220101T000000
END:STANDARD
END:VTIMEZONE
BEGIN:VEVENT
DTSTART;TZID=America/Phoenix:20230119T173000
DTEND;TZID=America/Phoenix:20230119T200000
DTSTAMP:20260424T053316
CREATED:20230106T000740Z
LAST-MODIFIED:20230106T000900Z
UID:10000579-1674149400-1674158400@www.thewalterhive.org
SUMMARY:Intro to Welding: Flower Pots
DESCRIPTION:Join The Walter Hive in their maker-space for an intro to welding workshop! In this class\, you will learn basic welding techniques to construct a metal flower planter. Real flowers will then be provided to add inside along with glowing paper flowers. This class is for ages 11 and up. \nFor safety\, please bring closed toe shoes\, a long sleeve shirt (made of cotton\, not polyester)\, pants\, and a hair tie if you have long hair. \nPlease register with the link provided.
URL:https://www.thewalterhive.org/events/intro-to-welding-flower-pots/
LOCATION:AZ
CATEGORIES:community event
ATTACH;FMTTYPE=image/jpeg:https://www.thewalterhive.org/wp-content/uploads/2022/12/313260153_494848702683581_5621441004607458735_n.jpg
END:VEVENT
END:VCALENDAR